BEGIN:VCALENDAR
VERSION:2.0
PRODID:-//vereniging Dordrechts museum - ECPv6.15.17.1//NONSGML v1.0//EN
CALSCALE:GREGORIAN
METHOD:PUBLISH
X-ORIGINAL-URL:https://verenigingdordrechtsmuseum.nl
X-WR-CALDESC:Evenementen voor vereniging Dordrechts museum
REFRESH-INTERVAL;VALUE=DURATION:PT1H
X-Robots-Tag:noindex
X-PUBLISHED-TTL:PT1H
BEGIN:VTIMEZONE
TZID:UTC
BEGIN:STANDARD
TZOFFSETFROM:+0000
TZOFFSETTO:+0000
TZNAME:UTC
DTSTART:20250101T000000
END:STANDARD
END:VTIMEZONE
BEGIN:VEVENT
DTSTART;TZID=UTC:20261027T080000
DTEND;TZID=UTC:20261101T170000
DTSTAMP:20260419T161352
CREATED:20260330T193916Z
LAST-MODIFIED:20260409T082246Z
UID:26148-1793088000-1793552400@verenigingdordrechtsmuseum.nl
SUMMARY:Kunstreis Kopenhagen
DESCRIPTION:Vereniging Dordrechts Museum organiseert een bijzondere kunstreis via Hamburg naar Kopenhagen! \nVan dinsdag 27 oktober t/m zondag 1 november 2026 is er een exclusieve kunstreis voor VDM-leden naar Kopenhagen georganiseerd. De reis zal mede in het teken staan van de Trompe-l’œil tentoonstelling die in 2027 in het Dordrechts Museum te zien zal zijn. Het Statens Museum for Kunst bezit mooie voorbeelden van dergelijke schilderijen van Nederlandse schilders en een aantal daarvan zal aan het Dordrechts museum worden uitgeleend. \nDe reis zal met de kunsthistorische begeleiding van Sander Paarlberg – Conservator Oude Kunst van het Dordrechts Museum – een bijzonder tintje krijgen.  \nDe organisatie van deze reis ligt in handen van Reinder Eggens en Nelleke Smits\, ondersteund door de reiscommissie én Verschoor Events. \nDe reis is per luxe touringcar die op 27 oktober vertrekt vanaf het Halmaheiraplein. Op de heenreis wordt er overnacht in Hamburg in het Madison hotel. Vervolgens 4 overnachtingen in Kopenhagen (in het Copenhagen Admiral hotel) waar we 5 musea bezoeken. Inbegrepen zijn 5x ontbijt\, 4x diner (met 1 drankje)\, en 1x boottocht met diner in Kopenhagen. Inbegrepen is de lunch op heen- en terugweg\, overige lunches zijn voor eigen rekening. \nOp het programma staan bezoeken aan de Hamburger Kunsthalle en in en rond Kopenhagen aan het Faaborg Kunstmuseum\, Statens Museum for Kunst\, Ny Carlsberg Glyptotek\, Nivaagaards Malerisamling Museum\, Louisiana Museum of Modern Art en het Nationaal Historisch Museum in Frederiksborg.  \nGezien de te lopen afstanden is het handig dat u goed ter been bent! \nVoor de deelnemers wordt eind juni een informatieavond georganiseerd waarbij de nadere invulling van de reis aan de orde komt.  \nDe kosten van de reis bedragen: \n– Tweepersoonskamer               € 2350\,- pp \n– Eénpersoonskamer                 € 2650\,- pp \nNaast de kamers voor de reisleiding zijn er 11 éénpersoonskamers beschikbaar en 15 tweepersoonskamers\, in totaal is er plaats voor 51 personen. \nAanmelding kan uitsluitend via nevenstaande rode button.\nU kunt dan op de betreffende pagina van Verschoor Reizen uw gegevens invullen en betalen\, waarna u de bevestiging ontvangt. \nOmdat het aantal plaatsen beperkt is\, zal de aanmelding openstaan totdat het beschikbaar aantal plaatsen is bereikt (wie het eerst komt\, het eerst maalt). \nDe aanmelding is pas definitief als de reissom in zijn geheel is overgemaakt. Let op\, het gaat om een groot bedrag. Uw daglimiet bij de bank is mogelijk niet toereikend\, deze kunt u via de bank verhogen. \nAchteraf organiseren wij voor de deelnemers een avond bij Art & Dining om samen terug te blikken.
URL:https://verenigingdordrechtsmuseum.nl/activiteit/kunstreis/
ATTACH;FMTTYPE=image/jpeg:https://verenigingdordrechtsmuseum.nl/wp-content/uploads/2026/03/Khage.jpg
END:VEVENT
END:VCALENDAR