BEGIN:VCALENDAR
VERSION:2.0
PRODID:-//vereniging Dordrechts museum - ECPv6.15.17.1//NONSGML v1.0//EN
CALSCALE:GREGORIAN
METHOD:PUBLISH
X-WR-CALNAME:vereniging Dordrechts museum
X-ORIGINAL-URL:https://verenigingdordrechtsmuseum.nl
X-WR-CALDESC:Evenementen voor vereniging Dordrechts museum
REFRESH-INTERVAL;VALUE=DURATION:PT1H
X-Robots-Tag:noindex
X-PUBLISHED-TTL:PT1H
BEGIN:VTIMEZONE
TZID:+00:00
END:VTIMEZONE
BEGIN:VEVENT
DTSTART;TZID=+00:00:20260217T140000
DTEND;TZID=+00:00:20260217T153000
DTSTAMP:20260419T143124
CREATED:20260121T130315Z
LAST-MODIFIED:20260121T140119Z
UID:25780-1771336800-1771342200@verenigingdordrechtsmuseum.nl
SUMMARY:Lezing over Turner door Quirine van der Meer Mohr
DESCRIPTION:Het Dordrechts Museum toont vanaf 8 februari 2026 een tentoonstelling met een tiental werken van Joseph Mallord William Turner. Dit is de eerste keer dat deze verzameling in Nederland te zien is. Eén van de hoogtepunten is het beroemde schilderij The Dort Packet-Boat from Rotterdam Becalmed\, dat Turner baseerde op indrukken van zijn bezoek aan Dordrecht in 1817.  \nDe tentoonstelling presenteert Turner als de ultieme schilder van het water\, met een focus op het spel van water en licht. Het tweeluik Water & Licht brengt het verhaal naar het heden met kunstenaar Nicky Assmann\, die dynamische lichtprojecties maakt die het kleurenspel van de elementen aanwakkeren door in te zoomen op waterspiegelingen en de gloed van de zon.  \nDe tentoonstelling is van 8 februari tot en met 14 juni 2026 te zien in het Dordrechts Museum. \nQuirine van der Meer Mohr – conservator 19E eeuw Dordrechts Museum – neemt u mee in de wereld van Turner. Zij beschrijft zijn leven en kunst.  De romantische Turner als schilder van water en de belangrijke rol die Dordrecht\, Nederland en de Nederlandse kunst in zijn oeuvre heeft ingenomen. Kortom een boeiende uiteenzetting over deze veelzijdige kunstenaar.
URL:https://verenigingdordrechtsmuseum.nl/activiteit/lezing-over-turner-door-quirine-van-der-meer-mohr/
ATTACH;FMTTYPE=image/jpeg:https://verenigingdordrechtsmuseum.nl/wp-content/uploads/2026/01/TurnerD.jpg
END:VEVENT
END:VCALENDAR