BEGIN:VCALENDAR
VERSION:2.0
PRODID:-//vereniging Dordrechts museum - ECPv6.15.17.1//NONSGML v1.0//EN
CALSCALE:GREGORIAN
METHOD:PUBLISH
X-WR-CALNAME:vereniging Dordrechts museum
X-ORIGINAL-URL:https://verenigingdordrechtsmuseum.nl
X-WR-CALDESC:Evenementen voor vereniging Dordrechts museum
REFRESH-INTERVAL;VALUE=DURATION:PT1H
X-Robots-Tag:noindex
X-PUBLISHED-TTL:PT1H
BEGIN:VTIMEZONE
TZID:+00:00
END:VTIMEZONE
BEGIN:VTIMEZONE
TZID:Africa/Abidjan
BEGIN:STANDARD
TZOFFSETFROM:+0000
TZOFFSETTO:+0000
TZNAME:GMT
DTSTART:20240101T000000
END:STANDARD
END:VTIMEZONE
BEGIN:VEVENT
DTSTART;TZID=+00:00:20251204T140000
DTEND;TZID=+00:00:20251204T160000
DTSTAMP:20260421T120513
CREATED:20251212T203342Z
LAST-MODIFIED:20251212T203342Z
UID:25368-1764856800-1764864000@verenigingdordrechtsmuseum.nl
SUMMARY:Atelierbezoek 2 bij Clim Schots - Vereniging Dordrechts Museum
DESCRIPTION:Deze activiteit is volgeboekt. \nDe activiteitencommissie van VDM organiseert op 27 november en 4 december 2025 een atelierbezoek bij de beeldhouwer en houtsnijder Clim Schots. Atelier Clim Schots is te vinden in verzamelgebouw voor kunstenaars Beelderdijk – Noordendijk 173a \nTijdens het bezoek zal Clim Schots een uitleg geven over klassiek beeldhouwen en houtsnijden. \nHet klassiek beeldhouwen is een oud beroep waarin tekenen\, boetseren\, het in gips zetten en het hout met de hand bewerken centraal staat. Voorafgaand aan het beeldhouwen vindt dus een gedegen voorbereiding plaats. \nBovenstaande manier van beeldhouwen is helaas een uitstervend beroep. Clim Schots spant zich in hiervoor te waken en vertelt graag en vol passie over zijn beroep. \nOmdat het maximale aantal mensen dat in het atelier ontvangen kan worden 15 is\, is er voor gekozen deze activiteit op twee verschillende dagen te laten plaatsvinden. In totaal kunnen dus 30 leden deelnemen aan deze activiteit. Kosten € 15\,00 pp
URL:https://verenigingdordrechtsmuseum.nl/activiteit/atelierbezoek-2-bij-clim-schots-vereniging-dordrechts-museum/
ATTACH;FMTTYPE=image/png:https://verenigingdordrechtsmuseum.nl/wp-content/uploads/2025/12/Scherm­afbeelding-2025-08-26-om-21.42.50-535x375-2.png
END:VEVENT
BEGIN:VEVENT
DTSTART;TZID=Africa/Abidjan:20251226T120000
DTEND;TZID=Africa/Abidjan:20251226T140000
DTSTAMP:20260421T120513
CREATED:20251212T204953Z
LAST-MODIFIED:20260114T105322Z
UID:25409-1766750400-1766757600@verenigingdordrechtsmuseum.nl
SUMMARY:Kerstconcert VDM - Vereniging Dordrechts Museum
DESCRIPTION:Route Sixteen heeft weer diverse prijzen gewonnen en zij willen ons laten meegenieten van het nieuwe repertoire dat zij het afgelopen jaar zo succesvol ten gehore hebben gebracht.\n\n\nNaast deze bijzondere nummers – waarbij er van u wederom een kleine muzikale bijdrage wordt verwacht – krijgt u een aantal mooie kerstliederen te horen. Route Sixteen verheugt zich erop voor de derde maal het kerstconcert voor u te mogen verzorgen! \nNa afloop kunt u genieten van een glaasje wijn en bittergarnituur
URL:https://verenigingdordrechtsmuseum.nl/activiteit/kerstconcert-vdm-vereniging-dordrechts-museum/
ATTACH;FMTTYPE=image/jpeg:https://verenigingdordrechtsmuseum.nl/wp-content/uploads/2025/12/Koor-535x375-1.jpg
END:VEVENT
END:VCALENDAR