BEGIN:VCALENDAR
VERSION:2.0
PRODID:-//vereniging Dordrechts museum - ECPv6.15.17.1//NONSGML v1.0//EN
CALSCALE:GREGORIAN
METHOD:PUBLISH
X-ORIGINAL-URL:https://verenigingdordrechtsmuseum.nl
X-WR-CALDESC:Evenementen voor vereniging Dordrechts museum
REFRESH-INTERVAL;VALUE=DURATION:PT1H
X-Robots-Tag:noindex
X-PUBLISHED-TTL:PT1H
BEGIN:VTIMEZONE
TZID:UTC
BEGIN:STANDARD
TZOFFSETFROM:+0000
TZOFFSETTO:+0000
TZNAME:UTC
DTSTART:20250101T000000
END:STANDARD
END:VTIMEZONE
BEGIN:VEVENT
DTSTART;TZID=UTC:20260312T103000
DTEND;TZID=UTC:20260312T113000
DTSTAMP:20260419T143944
CREATED:20260222T145109Z
LAST-MODIFIED:20260225T185932Z
UID:26007-1773311400-1773315000@verenigingdordrechtsmuseum.nl
SUMMARY:Bezoek restauratie atelier 10.30 uur
DESCRIPTION:Unieke uitnodiging deelgenoot te zijn van de restauratie Maanlandschap van Aert van der Neer \nOp dit moment wordt het Maanlandschap van Aert van der Neer gerestaureerd voor de aanstaande tentoonstelling over nachtstukken. Dit wordt gedaan door een externe restaurator (Barbara Schoonhoven) op kosten van het VDM-restauratie fonds.  \nDeze keer is ervoor gekozen het schilderij niet in een extern atelier te laten restaureren maar in het eigen atelier van het Dordrechts Museum. \nWij nodigen u graag uit met eigen ogen getuige te zijn van deze restauratie. Tijdens uw bezoek krijgt u uitgebreide informatie over de restauratie zelf\, de methode waarmee dit gebeurt en uiteraard het effect dat hiermee gehoopt wordt te bereiken! \nHet schilderij Maanlandschap is momenteel precies halverwege restauratie zodat goed te zien zal zijn hoe mooi het wordt na vernisafname en hoe geel het was (zie bijgevoegde foto). Voordat alle vernis eraf is wordt u in de gelegenheid gesteld dit wonderbaarlijke proces te volgen. \nBarbara Schoonhoven vertelt u over de restauratie van het schilderij Maanlandschap van Aert van der Neer en Lidwien Speleers over de restauratie van een werk van Alexander Wüst. \n Er kunnen groepen van 10 mensen in het atelier ontvangen worden voor een bezoek van drie kwartier op donderdag 12 maart 2026. \nU kunt zich voor deze activiteit aanmelden via de website. Wanneer de twee sessies snel volgeboekt zijn\, is er de mogelijkheid voor een derde sessie die dezelfde dag om 13.30 uur zal plaatsvinden. Deze sessie zal zichtbaar gemaakt worden wanneer de eerste twee sessies volledig volgeboekt zijn. \nAanmelden voor de activiteit via de website.  \nU kunt zich melden bij de entree van het Dordrechts Museum met VDM- of Museumkaart.
URL:https://verenigingdordrechtsmuseum.nl/activiteit/bezoek-restauratie-atelier/
ATTACH;FMTTYPE=image/jpeg:https://verenigingdordrechtsmuseum.nl/wp-content/uploads/2026/02/ResDM1.jpg
END:VEVENT
BEGIN:VEVENT
DTSTART;TZID=UTC:20260312T113000
DTEND;TZID=UTC:20260312T123000
DTSTAMP:20260419T143944
CREATED:20260223T112124Z
LAST-MODIFIED:20260225T190004Z
UID:26029-1773315000-1773318600@verenigingdordrechtsmuseum.nl
SUMMARY:Bezoek restauratie atelier 11.30 uur
DESCRIPTION:Unieke uitnodiging deelgenoot te zijn van de restauratie Maanlandschap van Aert van der Neer \nOp dit moment wordt het Maanlandschap van Aert van der Neer gerestaureerd voor de aanstaande tentoonstelling over nachtstukken. Dit wordt gedaan door een externe restaurator (Barbara Schoonhoven) op kosten van het VDM-restauratie fonds.  \nDeze keer is ervoor gekozen het schilderij niet in een extern atelier te laten restaureren maar in het eigen atelier van het Dordrechts Museum. \nWij nodigen u graag uit met eigen ogen getuige te zijn van deze restauratie. Tijdens uw bezoek krijgt u uitgebreide informatie over de restauratie zelf\, de methode waarmee dit gebeurt en uiteraard het effect dat hiermee gehoopt wordt te bereiken! \nHet schilderij Maanlandschap is momenteel precies halverwege restauratie zodat goed te zien zal zijn hoe mooi het wordt na vernisafname en hoe geel het was (zie bijgevoegde foto). Voordat alle vernis eraf is wordt u in de gelegenheid gesteld dit wonderbaarlijke proces te volgen. \nBarbara Schoonhoven vertelt u over de restauratie van het schilderij Maanlandschap van Aert van der Neer en Lidwien Speleers over de restauratie van een werk van Alexander Wüst. \nEr kunnen groepen van 10 mensen in het atelier ontvangen worden voor een bezoek van drie kwartier op donderdag 12 maart 2026 \nU kunt zich voor deze activiteit aanmelden via de website. Wanneer de twee sessies snel volgeboekt zijn\, is er de mogelijkheid voor een derde sessie die dezelfde dag om 13.30 uur zal plaatsvinden. Deze sessie zal zichtbaar gemaakt worden wanneer de eerste twee sessies volledig volgeboekt zijn. \nAanmelden voor de activiteit via de website.  \nU kunt zich melden bij de entree van het Dordrechts Museum met VDM- of Museumkaart.
URL:https://verenigingdordrechtsmuseum.nl/activiteit/bezoek-restauratie-atelier-11-30-uur/
ATTACH;FMTTYPE=image/jpeg:https://verenigingdordrechtsmuseum.nl/wp-content/uploads/2026/02/DMRest2.jpg
END:VEVENT
BEGIN:VEVENT
DTSTART;TZID=UTC:20260312T133000
DTEND;TZID=UTC:20260312T143000
DTSTAMP:20260419T143944
CREATED:20260227T141638Z
LAST-MODIFIED:20260227T141638Z
UID:26083-1773322200-1773325800@verenigingdordrechtsmuseum.nl
SUMMARY:Bezoek restauratie atelier 13.30 uur
DESCRIPTION:Unieke uitnodiging deelgenoot te zijn van de restauratie Maanlandschap van Aert van der Neer \nOp dit moment wordt het Maanlandschap van Aert van der Neer gerestaureerd voor de aanstaande tentoonstelling over nachtstukken. Dit wordt gedaan door een externe restaurator (Barbara Schoonhoven) op kosten van het VDM-restauratie fonds.  \nDeze keer is ervoor gekozen het schilderij niet in een extern atelier te laten restaureren maar in het eigen atelier van het Dordrechts Museum. \nWij nodigen u graag uit met eigen ogen getuige te zijn van deze restauratie. Tijdens uw bezoek krijgt u uitgebreide informatie over de restauratie zelf\, de methode waarmee dit gebeurt en uiteraard het effect dat hiermee gehoopt wordt te bereiken! \nHet schilderij Maanlandschap is momenteel precies halverwege restauratie zodat goed te zien zal zijn hoe mooi het wordt na vernisafname en hoe geel het was (zie bijgevoegde foto). Voordat alle vernis eraf is wordt u in de gelegenheid gesteld dit wonderbaarlijke proces te volgen. \nBarbara Schoonhoven vertelt u over de restauratie van het schilderij Maanlandschap van Aert van der Neer en Lidwien Speleers over de restauratie van een werk van Alexander Wüst. \nEr kunnen groepen van 10 mensen in het atelier ontvangen worden voor een bezoek van drie kwartier op donderdag 12 maart 2026 \nU kunt zich voor deze activiteit aanmelden via de website. Wanneer de twee sessies snel volgeboekt zijn\, is er de mogelijkheid voor een derde sessie die dezelfde dag om 13.30 uur zal plaatsvinden. Deze sessie zal zichtbaar gemaakt worden wanneer de eerste twee sessies volledig volgeboekt zijn. \nAanmelden voor de activiteit via de website.  \nU kunt zich melden bij de entree van het Dordrechts Museum met VDM- of Museumkaart.
URL:https://verenigingdordrechtsmuseum.nl/activiteit/bezoek-restauratie-atelier-13-30-uur/
ATTACH;FMTTYPE=image/jpeg:https://verenigingdordrechtsmuseum.nl/wp-content/uploads/2026/02/DMRest2.jpg
END:VEVENT
END:VCALENDAR