BEGIN:VCALENDAR
VERSION:2.0
PRODID:-//vereniging Dordrechts museum - ECPv6.15.17.1//NONSGML v1.0//EN
CALSCALE:GREGORIAN
METHOD:PUBLISH
X-WR-CALNAME:vereniging Dordrechts museum
X-ORIGINAL-URL:https://verenigingdordrechtsmuseum.nl
X-WR-CALDESC:Evenementen voor vereniging Dordrechts museum
REFRESH-INTERVAL;VALUE=DURATION:PT1H
X-Robots-Tag:noindex
X-PUBLISHED-TTL:PT1H
BEGIN:VTIMEZONE
TZID:Africa/Abidjan
BEGIN:STANDARD
TZOFFSETFROM:+0000
TZOFFSETTO:+0000
TZNAME:GMT
DTSTART:20240101T000000
END:STANDARD
END:VTIMEZONE
BEGIN:VEVENT
DTSTART;TZID=Africa/Abidjan:20251027T130000
DTEND;TZID=Africa/Abidjan:20251027T130000
DTSTAMP:20260421T153414
CREATED:20251212T183710Z
LAST-MODIFIED:20251212T203906Z
UID:25264-1761570000-1761570000@verenigingdordrechtsmuseum.nl
SUMMARY:Reis Parijs - Vereniging Dordrechts Museum
DESCRIPTION:Reis naar Parijs\n\nVereniging Dordrechts Museum organiseert een mooie reis naar Parijs in de voetsporen van Ary Scheffer en de tentoonstelling Liberté.  \nDeze activiteit is volgeboekt \nGegevens:  \nDe reis vindt plaats van 27 oktober t/m 31 oktober 2025 \n–  Het vervoer is per luxe bus vanaf het Halmaheiraplein te Dordrecht met lunch van Nobel’s\n–  De reis is inclusief 4 overnachtingen met ontbijt\n–  Wij verblijven in het prachtig gelegen hotel Les Jardins du Marais 4*\n–  Inbegrepen zijn alle diners (met 2 drankjes) en driemaal lunch\n–  Bezoeken aan o.a. het Louvre\, Versailles en de Notre Dame\n–  Eén van de diners is op een luxe boot op de Seine\n–  Op de terugweg bezoeken wij een bijzonder museum in Lille\, daarna krijgt u de gelegenheid de oude binnenstad te bezoeken. \nDe reis is met een luxe touringcar waarin plaats is voor max. 60 personen.\nDe kosten van de reis bedragen:\n– Tweepersoonskamer € 1595\,00 pp\n– Eénpersoonskamer € 1695\,00 pp \nNa aanmelding via de site Vereniging Dordrechts Museum krijgt u een bevestiging en informatie over het rekening- en dossiernummer waar naartoe u de aanbetaling kunt overmaken. \nHet bedrag van de aanbetaling is resp. € 595\,00 en € 695\,00 pp voor een twee- of éénpersoonskamer.  \nVoor- en achteraf organiseren wij een leuke middag/avond bij Art & Dining voor verdere informatie en terugblik.  \nMocht u nog vragen hebben\, dan kunt u terecht bij: \nReinder Eggens: reggens@kpnmail.nl\nNelleke Smits: nellekesmits@outlook.com 
URL:https://verenigingdordrechtsmuseum.nl/activiteit/reis-parijs-vereniging-dordrechts-museum/
LOCATION:Parijs
ATTACH;FMTTYPE=image/png:https://verenigingdordrechtsmuseum.nl/wp-content/uploads/2025/12/parijs-2025-02-12-om-19.27.47-535x375-1.png
END:VEVENT
END:VCALENDAR