BEGIN:VCALENDAR
VERSION:2.0
PRODID:-//vereniging Dordrechts museum - ECPv6.15.17.1//NONSGML v1.0//EN
CALSCALE:GREGORIAN
METHOD:PUBLISH
X-ORIGINAL-URL:https://verenigingdordrechtsmuseum.nl
X-WR-CALDESC:Evenementen voor vereniging Dordrechts museum
REFRESH-INTERVAL;VALUE=DURATION:PT1H
X-Robots-Tag:noindex
X-PUBLISHED-TTL:PT1H
BEGIN:VTIMEZONE
TZID:+00:00
END:VTIMEZONE
BEGIN:VEVENT
DTSTART;TZID=+00:00:20250926T200000
DTEND;TZID=+00:00:20250926T220000
DTSTAMP:20260422T023705
CREATED:20251212T203342Z
LAST-MODIFIED:20251212T203342Z
UID:25359-1758916800-1758924000@verenigingdordrechtsmuseum.nl
SUMMARY:Unieke dubbelpresentatie MOV en Hollands Diep - Vereniging Dordrechts Museum
DESCRIPTION:Dubbelpresentatie MOV en Hollands Diep in kader van 400 jaar Johan de Witt\n\nIn Dordrecht wordt dit jaar uitgebreid aandacht besteed aan het feit dat het 400 jaar geleden is dat Johan de Witt op 24 september in Dordrecht werd geboren. Zo is er in het Dordrechts Museum de expositie ”De wereld van Johan de Witt” en daarnaast vinden er tal van andere activiteiten in de stad plaats. \nEen unieke activiteit is de muzikale dubbelpresentatie die Merwe’s Oratorium Vereniging en Muziektheater Hollands Diep geven op vrijdag 26 september in de Augustijnenkerk. \nMuziektheater Hollands Diep opent de avond met de productie “Noodklok” . In deze muziektheatervoorstelling krijg je via de brieven aan Johan de Witt een historische inkijk in het leven van deze voormalige regent en tegelijkertijd een fantasie op hoe zijn innerlijke belevingswereld zou kunnen zijn geweest. De ‘woke’-cultuur en hedendaagse opinies sluipen de 17e eeuw binnen. \n\n\n\n\n\n\n\nJohan de Witt verschijnt op het toneel\, maar dan in drievoud. De drie personages vormen een verschillend deel van zijn karakter en worden gespeeld door een slagwerker\, een bariton en een actrice. Centraal op het podium staat een arsenaal aan slagwerkinstrumenten\, wat het episch centrum van het landelijke bestuur voorstelt\, de ‘stuurkamer’\, met Johan aan de ‘knoppen’.  \nEr komen brieven binnen\, afkomstig van kennissen\, familie\, vreemden\, zakelijke belanghebbenden en vorsten. Het rampjaar 1672 voltrekt zich. Vele brieven arriveren. Ze bevatten dringende waarschuwingen uit het buitenland\, diplomatieke verslagen van een naderende vijand en uitingen van de vrees om zijn leven. Dan komt er een brief uit de toekomst\, waarin vragen worden gesteld over de betrokkenheid van Johan de Witt bij de slavernij door een anonieme schrijver. \n\n\n\n\n\n\n\n\n\nEen uitzonderlijke ensemblesamenstelling bestaand uit slagwerk (Konstantyn Napolov)\, bariton (Hans Pieter Herman) en actrice (Swendeline Edsilia) zal werken van Emmanuel Séjourné en Nicolas Martynciow uitvoeren. Een hoofdrol in deze voorstelling krijgt de aria “Batter my heart” uit Dr. Atomic van de componist John Adams\, gearrangeerd voor slagwerk en bariton. Florien de la Fosse\, artistiek leider van Hollands Diep tekent voor het scenario\, regie Robin Coops\, kostuums Martijn Kramp* \n* Voor de kostuums en enscenering van de voorstelling gaat een crowdfundingsactie lopen bij www.Voordekunst.nl. Uw bijdrage wordt zéér op prijs gesteld! \n\n\n\nRequiem in memoriam Johan de Witt\n\nNa de pauze neemt MOV het stokje over met het “Requiem in memoriam Johan de Witt”. Dit werk werd in 2022 geschreven door de Haagse componist Roel van Oosten\, ter herdenking van het Rampjaar 1672\, toen de Republiek der Zeven Verenigde Nederlanden\, zowel vanuit het Oosten\, het Westen als het Zuiden werd aangevallen en voor een groot deel bezet werd. De belangrijkste\, staatsgezinde\, regent Johan de Witt en zijn broer Cornelis werden door het volk vermoord in Den Haag. \nHet werk heeft de structuur van een klassiek Requiem\, de katholieke dodenmis\, en gebruikt naast de teksten uit de Latijnse mis\, Requiem Aeterna\, Dies irae\, enz. ook teksten van tijdgenoten van Johan de Witt\, zoals de Nederlandse dichter Joan van Broekhuizen en de filosoof Baruch Spinoza. Daarnaast komt goed herkenbaar de befaamde tekst ‘Redeloos\, Radeloos en Reddeloos’ in het stuk voor\, die achtereenvolgend refereert aan het Nederlandse volk\, de regering en het land. \nHet werk wordt gezongen door het koor en een sopraansolist\, Esther Kuiper. In de begeleiding heeft\, naast Orgel\, Bert Mooiman\, en Piano\, Caecilia Boschman\, het slagwerk een héél belangrijke rol. Konstantyn Napolov vertolkt deze\, net als de eerste keer dat dit werk werd uitgevoerd in 2022 in Den Haag. De algehele leiding is in handen van dirigent Gilles Michels. \nDe leden van MOV zijn er trots op dat zij als koor in de geboorteplaats van de gebroeders de Witt de tweede uitvoering van dit werk voor hun rekening nemen. \nDe avond op vrijdag 26 september in de Augustijnenkerk\, Voorstraat 216\, 3311 ET Dordrecht\, begint om 20.00 uur. Kerk open om 19.30 uur. Kaarten zijn á 20\,- euro in de voorverkoop verkrijgbaar via www.oratoriumdordrecht.nl  en op de avond zelf bij de ingang van de kerk\, á 22\,50 euro. \nMeer informatie www.muziektheaterhollandsdiepdordrecht.nl en www.oratoriumdordrecht.nl
URL:https://verenigingdordrechtsmuseum.nl/activiteit/unieke-dubbelpresentatie-mov-en-hollands-diep-vereniging-dordrechts-museum/
ATTACH;FMTTYPE=image/png:https://verenigingdordrechtsmuseum.nl/wp-content/uploads/2025/12/Scherm­afbeelding-2025-07-18-om-11.02.53-1-535x307-1.png
END:VEVENT
END:VCALENDAR